BEGIN:VCALENDAR
VERSION:2.0
PRODID:-//Farmstead on the River - ECPv6.15.14//NONSGML v1.0//EN
CALSCALE:GREGORIAN
METHOD:PUBLISH
X-WR-CALNAME:Farmstead on the River
X-ORIGINAL-URL:https://www.pattihunter.com
X-WR-CALDESC:Events for Farmstead on the River
REFRESH-INTERVAL;VALUE=DURATION:PT1H
X-Robots-Tag:noindex
X-PUBLISHED-TTL:PT1H
BEGIN:VTIMEZONE
TZID:America/New_York
BEGIN:DAYLIGHT
TZOFFSETFROM:-0500
TZOFFSETTO:-0400
TZNAME:EDT
DTSTART:20240310T070000
END:DAYLIGHT
BEGIN:STANDARD
TZOFFSETFROM:-0400
TZOFFSETTO:-0500
TZNAME:EST
DTSTART:20241103T060000
END:STANDARD
BEGIN:DAYLIGHT
TZOFFSETFROM:-0500
TZOFFSETTO:-0400
TZNAME:EDT
DTSTART:20250309T070000
END:DAYLIGHT
BEGIN:STANDARD
TZOFFSETFROM:-0400
TZOFFSETTO:-0500
TZNAME:EST
DTSTART:20251102T060000
END:STANDARD
BEGIN:DAYLIGHT
TZOFFSETFROM:-0500
TZOFFSETTO:-0400
TZNAME:EDT
DTSTART:20260308T070000
END:DAYLIGHT
BEGIN:STANDARD
TZOFFSETFROM:-0400
TZOFFSETTO:-0500
TZNAME:EST
DTSTART:20261101T060000
END:STANDARD
END:VTIMEZONE
BEGIN:VEVENT
DTSTART;TZID=America/New_York:20251003T173000
DTEND;TZID=America/New_York:20251004T190000
DTSTAMP:20260423T222637
CREATED:20250723T125725Z
LAST-MODIFIED:20250723T125725Z
UID:3954-1759512600-1759604400@www.pattihunter.com
SUMMARY:Abide: Divine Intimacy in the Ordinary & Everyday Life
DESCRIPTION:Contemporary life is filled with noise and distractions. The business of daily life\, the demands of family and career\, and the continual presence of technology can keep our minds\, bodies\, and souls in a near-constant frenzy. And yet\, we can simultaneously feel bored and fatigued by the mundane and repetitive nature of the everyday. Often\, what we want most is to escape. Amidst it all\, our spirits are crying out for the time and space to deepen our relationship with our Heavenly Father; they ache for the ability to foster an ever-growing connection and intimacy with God.
URL:https://www.pattihunter.com/event/abide-divine-intimacy-in-the-ordinary-everyday-life/
LOCATION:Farmstead\, 1565 Green Drive\, Canton\, 30114\, United States
END:VEVENT
END:VCALENDAR