BEGIN:VCALENDAR
VERSION:2.0
PRODID:-//Farmstead on the River - ECPv6.15.14//NONSGML v1.0//EN
CALSCALE:GREGORIAN
METHOD:PUBLISH
X-WR-CALNAME:Farmstead on the River
X-ORIGINAL-URL:https://www.pattihunter.com
X-WR-CALDESC:Events for Farmstead on the River
REFRESH-INTERVAL;VALUE=DURATION:PT1H
X-Robots-Tag:noindex
X-PUBLISHED-TTL:PT1H
BEGIN:VTIMEZONE
TZID:America/New_York
BEGIN:DAYLIGHT
TZOFFSETFROM:-0500
TZOFFSETTO:-0400
TZNAME:EDT
DTSTART:20240310T070000
END:DAYLIGHT
BEGIN:STANDARD
TZOFFSETFROM:-0400
TZOFFSETTO:-0500
TZNAME:EST
DTSTART:20241103T060000
END:STANDARD
BEGIN:DAYLIGHT
TZOFFSETFROM:-0500
TZOFFSETTO:-0400
TZNAME:EDT
DTSTART:20250309T070000
END:DAYLIGHT
BEGIN:STANDARD
TZOFFSETFROM:-0400
TZOFFSETTO:-0500
TZNAME:EST
DTSTART:20251102T060000
END:STANDARD
BEGIN:DAYLIGHT
TZOFFSETFROM:-0500
TZOFFSETTO:-0400
TZNAME:EDT
DTSTART:20260308T070000
END:DAYLIGHT
BEGIN:STANDARD
TZOFFSETFROM:-0400
TZOFFSETTO:-0500
TZNAME:EST
DTSTART:20261101T060000
END:STANDARD
END:VTIMEZONE
BEGIN:VEVENT
DTSTART;TZID=America/New_York:20250808T180000
DTEND;TZID=America/New_York:20250810T120000
DTSTAMP:20260424T012949
CREATED:20250508T175137Z
LAST-MODIFIED:20250508T181606Z
UID:3901-1754676000-1754827200@www.pattihunter.com
SUMMARY:Mosaic Moments in the Gospels
DESCRIPTION:Rooted in silence\, scripture\, and creative expression\, this contemplative retreat offers a “soul-space” for authentic connection with God. Patti gently guides participants through the process of reflecting\, imagining\, and crafting—emphasizing the spiritual encounter over the final product. As you thoughtfully arrange tiles of different colors\, shapes\, and sizes\, and work with grout in a quiet and prayerful atmosphere\, you’ll be invited to notice the inner stirrings of the Spirit—those gentle whispers and movements that so often go unheard in the busyness of daily life. \nDate: August 8 @ 6:00 pm – August 10 @ 12:00 pm \nCost: $380
URL:https://www.pattihunter.com/event/personal-silent-weekend-retreat-ignatius-house-in-sandy-springs/
LOCATION:Ignatius House Retreat Center\, 6700 Riverside Dr.\, Sandy Springs\, GA\, 30328\, United States
END:VEVENT
END:VCALENDAR