BEGIN:VCALENDAR
VERSION:2.0
PRODID:-//Farmstead on the River - ECPv6.15.14//NONSGML v1.0//EN
CALSCALE:GREGORIAN
METHOD:PUBLISH
X-ORIGINAL-URL:https://www.pattihunter.com
X-WR-CALDESC:Events for Farmstead on the River
REFRESH-INTERVAL;VALUE=DURATION:PT1H
X-Robots-Tag:noindex
X-PUBLISHED-TTL:PT1H
BEGIN:VTIMEZONE
TZID:America/New_York
BEGIN:DAYLIGHT
TZOFFSETFROM:-0500
TZOFFSETTO:-0400
TZNAME:EDT
DTSTART:20230312T070000
END:DAYLIGHT
BEGIN:STANDARD
TZOFFSETFROM:-0400
TZOFFSETTO:-0500
TZNAME:EST
DTSTART:20231105T060000
END:STANDARD
BEGIN:DAYLIGHT
TZOFFSETFROM:-0500
TZOFFSETTO:-0400
TZNAME:EDT
DTSTART:20240310T070000
END:DAYLIGHT
BEGIN:STANDARD
TZOFFSETFROM:-0400
TZOFFSETTO:-0500
TZNAME:EST
DTSTART:20241103T060000
END:STANDARD
BEGIN:DAYLIGHT
TZOFFSETFROM:-0500
TZOFFSETTO:-0400
TZNAME:EDT
DTSTART:20250309T070000
END:DAYLIGHT
BEGIN:STANDARD
TZOFFSETFROM:-0400
TZOFFSETTO:-0500
TZNAME:EST
DTSTART:20251102T060000
END:STANDARD
END:VTIMEZONE
BEGIN:VEVENT
DTSTART;TZID=America/New_York:20240615T090000
DTEND;TZID=America/New_York:20240615T153000
DTSTAMP:20260424T221926
CREATED:20240415T182248Z
LAST-MODIFIED:20240529T131736Z
UID:3270-1718442000-1718465400@www.pattihunter.com
SUMMARY:Art & Soul Workshop - "Glory & Goodness of God"
DESCRIPTION:The theme for our Art & Soul workshop this weekend is “Glory and Goodness of God”. We will be contemplating and creating the “Glory & Godness of God” as we interact with Psalm 23. \nMediums of art being used will be paint & clay. No prior experience needed. \nRegister by clicking HERE
URL:https://www.pattihunter.com/event/art-soul-workshop-glory-goodness-of-god/
LOCATION:The Farmstead\, 1565 Green Drive\, Canton\, GA\, United States
END:VEVENT
END:VCALENDAR