BEGIN:VCALENDAR
VERSION:2.0
PRODID:-//Farmstead on the River - ECPv6.15.14//NONSGML v1.0//EN
CALSCALE:GREGORIAN
METHOD:PUBLISH
X-WR-CALNAME:Farmstead on the River
X-ORIGINAL-URL:https://www.pattihunter.com
X-WR-CALDESC:Events for Farmstead on the River
REFRESH-INTERVAL;VALUE=DURATION:PT1H
X-Robots-Tag:noindex
X-PUBLISHED-TTL:PT1H
BEGIN:VTIMEZONE
TZID:America/New_York
BEGIN:DAYLIGHT
TZOFFSETFROM:-0500
TZOFFSETTO:-0400
TZNAME:EDT
DTSTART:20220313T070000
END:DAYLIGHT
BEGIN:STANDARD
TZOFFSETFROM:-0400
TZOFFSETTO:-0500
TZNAME:EST
DTSTART:20221106T060000
END:STANDARD
BEGIN:DAYLIGHT
TZOFFSETFROM:-0500
TZOFFSETTO:-0400
TZNAME:EDT
DTSTART:20230312T070000
END:DAYLIGHT
BEGIN:STANDARD
TZOFFSETFROM:-0400
TZOFFSETTO:-0500
TZNAME:EST
DTSTART:20231105T060000
END:STANDARD
BEGIN:DAYLIGHT
TZOFFSETFROM:-0500
TZOFFSETTO:-0400
TZNAME:EDT
DTSTART:20240310T070000
END:DAYLIGHT
BEGIN:STANDARD
TZOFFSETFROM:-0400
TZOFFSETTO:-0500
TZNAME:EST
DTSTART:20241103T060000
END:STANDARD
END:VTIMEZONE
BEGIN:VEVENT
DTSTART;VALUE=DATE:20231006
DTEND;VALUE=DATE:20231008
DTSTAMP:20260425T105612
CREATED:20230515T075047Z
LAST-MODIFIED:20230516T012801Z
UID:2709-1696550400-1696723199@www.pattihunter.com
SUMMARY:A Retreat by Dr. Asha George-Guiser
DESCRIPTION:Join us in this life-giving retreat exploring our roots\, soil\, trunk\, branches\, fruits and leaves. – Directed by Dr. Asha George-Guiser \n 
URL:https://www.pattihunter.com/event/dr-guiser-retreat/
LOCATION:The Farmstead\, 1565 Green Drive\, Canton\, GA\, United States
END:VEVENT
END:VCALENDAR