BEGIN:VCALENDAR
VERSION:2.0
PRODID:-//Farmstead on the River - ECPv6.15.14//NONSGML v1.0//EN
CALSCALE:GREGORIAN
METHOD:PUBLISH
X-WR-CALNAME:Farmstead on the River
X-ORIGINAL-URL:https://www.pattihunter.com
X-WR-CALDESC:Events for Farmstead on the River
REFRESH-INTERVAL;VALUE=DURATION:PT1H
X-Robots-Tag:noindex
X-PUBLISHED-TTL:PT1H
BEGIN:VTIMEZONE
TZID:America/New_York
BEGIN:DAYLIGHT
TZOFFSETFROM:-0500
TZOFFSETTO:-0400
TZNAME:EDT
DTSTART:20220313T070000
END:DAYLIGHT
BEGIN:STANDARD
TZOFFSETFROM:-0400
TZOFFSETTO:-0500
TZNAME:EST
DTSTART:20221106T060000
END:STANDARD
BEGIN:DAYLIGHT
TZOFFSETFROM:-0500
TZOFFSETTO:-0400
TZNAME:EDT
DTSTART:20230312T070000
END:DAYLIGHT
BEGIN:STANDARD
TZOFFSETFROM:-0400
TZOFFSETTO:-0500
TZNAME:EST
DTSTART:20231105T060000
END:STANDARD
BEGIN:DAYLIGHT
TZOFFSETFROM:-0500
TZOFFSETTO:-0400
TZNAME:EDT
DTSTART:20240310T070000
END:DAYLIGHT
BEGIN:STANDARD
TZOFFSETFROM:-0400
TZOFFSETTO:-0500
TZNAME:EST
DTSTART:20241103T060000
END:STANDARD
END:VTIMEZONE
BEGIN:VEVENT
DTSTART;TZID=America/New_York:20230225T093000
DTEND;TZID=America/New_York:20230225T153000
DTSTAMP:20260425T224720
CREATED:20230113T165835Z
LAST-MODIFIED:20230113T205752Z
UID:2357-1677317400-1677339000@www.pattihunter.com
SUMMARY:Art & Soul Workshop: "The Fallow Season" - Quieting the Soul
DESCRIPTION:Art & Soul Workshops aim to integrate silence\, scriptures\, nature and the various mediums of art to create a “soul-space” for you to experience an authentic connection with God. \n \nRegister for The Fallow Season HERE
URL:https://www.pattihunter.com/event/art-soul-workshop-the-fallow-season-quieting-the-soul/
LOCATION:The Farmstead\, 1565 Green Drive\, Canton\, GA\, United States
END:VEVENT
END:VCALENDAR