BEGIN:VCALENDAR
VERSION:2.0
PRODID:-//Farmstead on the River - ECPv6.15.14//NONSGML v1.0//EN
CALSCALE:GREGORIAN
METHOD:PUBLISH
X-ORIGINAL-URL:https://www.pattihunter.com
X-WR-CALDESC:Events for Farmstead on the River
REFRESH-INTERVAL;VALUE=DURATION:PT1H
X-Robots-Tag:noindex
X-PUBLISHED-TTL:PT1H
BEGIN:VTIMEZONE
TZID:America/New_York
BEGIN:DAYLIGHT
TZOFFSETFROM:-0500
TZOFFSETTO:-0400
TZNAME:EDT
DTSTART:20210314T070000
END:DAYLIGHT
BEGIN:STANDARD
TZOFFSETFROM:-0400
TZOFFSETTO:-0500
TZNAME:EST
DTSTART:20211107T060000
END:STANDARD
BEGIN:DAYLIGHT
TZOFFSETFROM:-0500
TZOFFSETTO:-0400
TZNAME:EDT
DTSTART:20220313T070000
END:DAYLIGHT
BEGIN:STANDARD
TZOFFSETFROM:-0400
TZOFFSETTO:-0500
TZNAME:EST
DTSTART:20221106T060000
END:STANDARD
BEGIN:DAYLIGHT
TZOFFSETFROM:-0500
TZOFFSETTO:-0400
TZNAME:EDT
DTSTART:20230312T070000
END:DAYLIGHT
BEGIN:STANDARD
TZOFFSETFROM:-0400
TZOFFSETTO:-0500
TZNAME:EST
DTSTART:20231105T060000
END:STANDARD
BEGIN:DAYLIGHT
TZOFFSETFROM:-0500
TZOFFSETTO:-0400
TZNAME:EDT
DTSTART:20240310T070000
END:DAYLIGHT
BEGIN:STANDARD
TZOFFSETFROM:-0400
TZOFFSETTO:-0500
TZNAME:EST
DTSTART:20241103T060000
END:STANDARD
END:VTIMEZONE
BEGIN:VTIMEZONE
TZID:America/New_York
BEGIN:DAYLIGHT
TZOFFSETFROM:-0500
TZOFFSETTO:-0400
TZNAME:EDT
DTSTART:20210314T070000
END:DAYLIGHT
BEGIN:STANDARD
TZOFFSETFROM:-0400
TZOFFSETTO:-0500
TZNAME:EST
DTSTART:20211107T060000
END:STANDARD
BEGIN:DAYLIGHT
TZOFFSETFROM:-0500
TZOFFSETTO:-0400
TZNAME:EDT
DTSTART:20220313T070000
END:DAYLIGHT
BEGIN:STANDARD
TZOFFSETFROM:-0400
TZOFFSETTO:-0500
TZNAME:EST
DTSTART:20221106T060000
END:STANDARD
BEGIN:DAYLIGHT
TZOFFSETFROM:-0500
TZOFFSETTO:-0400
TZNAME:EDT
DTSTART:20230312T070000
END:DAYLIGHT
BEGIN:STANDARD
TZOFFSETFROM:-0400
TZOFFSETTO:-0500
TZNAME:EST
DTSTART:20231105T060000
END:STANDARD
END:VTIMEZONE
BEGIN:VEVENT
DTSTART;TZID=America/New_York:20230818T180000
DTEND;TZID=America/New_York:20230820T120000
DTSTAMP:20260423T161737
CREATED:20230813T063956Z
LAST-MODIFIED:20230813T064036Z
UID:2970-1692381600-1692532800@www.pattihunter.com
SUMMARY:Art Retreat: The Divine Mender – A Feast of Healing and Homecoming
DESCRIPTION: 
URL:https://www.pattihunter.com/event/art-retreat-the-divine-mender-a-feast-of-healing-and-homecoming/
LOCATION:Ignatius House Retreat Center\, 6700 Riverside Dr.\, Sandy Springs\, GA\, 30328\, United States
END:VEVENT
BEGIN:VEVENT
DTSTART;TZID=America/New_York:20230610T093000
DTEND;TZID=America/New_York:20230610T153000
DTSTAMP:20260423T161737
CREATED:20230113T205124Z
LAST-MODIFIED:20230324T141702Z
UID:2410-1686389400-1686411000@www.pattihunter.com
SUMMARY:Art & Soul Workshop - June 10\, 2023
DESCRIPTION:This is an ART & SOUL WORKSHOP focused on streams and rivers. Rivers are a symbol of life. Ever flowing and ever moving. Rivers are very symbolic in spirituality. We will be creating with different art mediums\, as well as spending time watching the Etowah river flow [through the Farmstead] and be present to its teaching.\n\nTime: 9:30a-3:30p \nAvailable Spots: 12
URL:https://www.pattihunter.com/event/art-soul-workshop-june-10-2023/
LOCATION:The Farmstead\, 1565 Green Drive\, Canton\, GA\, United States
END:VEVENT
BEGIN:VEVENT
DTSTART;TZID=America/New_York:20230225T093000
DTEND;TZID=America/New_York:20230225T153000
DTSTAMP:20260423T161737
CREATED:20230113T165835Z
LAST-MODIFIED:20230113T205752Z
UID:2357-1677317400-1677339000@www.pattihunter.com
SUMMARY:Art & Soul Workshop: "The Fallow Season" - Quieting the Soul
DESCRIPTION:Art & Soul Workshops aim to integrate silence\, scriptures\, nature and the various mediums of art to create a “soul-space” for you to experience an authentic connection with God. \n \nRegister for The Fallow Season HERE
URL:https://www.pattihunter.com/event/art-soul-workshop-the-fallow-season-quieting-the-soul/
LOCATION:The Farmstead\, 1565 Green Drive\, Canton\, GA\, United States
END:VEVENT
BEGIN:VEVENT
DTSTART;TZID=America/New_York:20221105T090000
DTEND;TZID=America/New_York:20221105T110000
DTSTAMP:20260423T161737
CREATED:20221020T140647Z
LAST-MODIFIED:20221020T141041Z
UID:2127-1667638800-1667646000@www.pattihunter.com
SUMMARY:Women's "Grateful Gathering" - Northview Church (Private Event)
DESCRIPTION:Women’s Midweek at the Farmstead – Details in the Northview Church Bulletin
URL:https://www.pattihunter.com/event/womens-grateful-gathering-northview-church-private-event/
LOCATION:The Farmstead\, 1565 Green Drive\, Canton\, GA\, United States
END:VEVENT
BEGIN:VEVENT
DTSTART;TZID=America/New_York:20220917T093000
DTEND;TZID=America/New_York:20220917T163000
DTSTAMP:20260423T161737
CREATED:20220812T204224Z
LAST-MODIFIED:20220812T204224Z
UID:2007-1663407000-1663432200@www.pattihunter.com
SUMMARY:ART & SOUL Workshop
DESCRIPTION:Art & Soul Workshops aim to integrate silence\, scriptures\, nature and the various mediums of art to create a “soul-space” for you to experience an authentic connection with God.
URL:https://www.pattihunter.com/event/art-soul-workshop/
LOCATION:The Farmstead\, 1565 Green Drive\, Canton\, GA\, United States
END:VEVENT
BEGIN:VEVENT
DTSTART;TZID=America/New_York:20220826T180000
DTEND;TZID=America/New_York:20220828T120000
DTSTAMP:20260423T161737
CREATED:20220720T152639Z
LAST-MODIFIED:20220720T152639Z
UID:1952-1661536800-1661688000@www.pattihunter.com
SUMMARY:Contemplating and Creating the Psalms (Semi-Silent) Retreat @ Ignatius House
DESCRIPTION:Art\, like prayer\, reflects what’s happening within ourselves. It’s about the process\, the encounter\, the experience.\nArtist and teacher Patti Hunter\, MA\, MACM\, will lead us through a semi-silent retreat that combines creativity\, nature\, the Scriptures\, different mediums of art and the practice of listening to the voice of the Holy Spirit. We’ll work with mosaic concepts\, acrylics\, flow paint\, collage and canvas throughout the retreat.  Come ready to have fun creating\, contemplating and connecting with the Creator!\nNo prior experience is necessary. Space is limited to 20 people. \nClick link to be redirected to Ignatius House and find more details there…
URL:https://www.pattihunter.com/event/contemplating-and-creating-the-psalms-semi-silent-retreat-ignatius-house/
LOCATION:Ignatius House Retreat Center\, 6700 Riverside Dr.\, Sandy Springs\, GA\, 30328\, United States
END:VEVENT
BEGIN:VEVENT
DTSTART;TZID=America/New_York:20220624T093000
DTEND;TZID=America/New_York:20220624T163000
DTSTAMP:20260423T161737
CREATED:20220307T075603Z
LAST-MODIFIED:20220307T075603Z
UID:1346-1656063000-1656088200@www.pattihunter.com
SUMMARY:Art & Soul Workshop 6/24
DESCRIPTION:We will focus this day on mediums of art and contemplation.  You do not need to be an artist. God has put creativity in all of us!  Like prayer\, art can move us into special moments spiritually with God.  Truly a divine experience. And fun! \nThis will be a semi silent and a guided day of retreat. \n*Coffee\, tea\, water\, and morning snacks will be offered. Lunch will be served for all participants. \n 
URL:https://www.pattihunter.com/event/art-soul-workshop-6-24/
LOCATION:The Farmstead\, 1565 Green Drive\, Canton\, GA\, United States
ATTACH;FMTTYPE=image/jpeg:https://www.pattihunter.com/wp-content/uploads/2022/02/artsoul6J4A2617-3-scaled.jpg
END:VEVENT
BEGIN:VEVENT
DTSTART;TZID=America/New_York:20220326T093000
DTEND;TZID=America/New_York:20220326T163000
DTSTAMP:20260423T161737
CREATED:20220307T080050Z
LAST-MODIFIED:20220307T081856Z
UID:1348-1648287000-1648312200@www.pattihunter.com
SUMMARY:A Day of Reflection ~ Retreat
DESCRIPTION:The focus of this retreat is to provide a space for you personally\, during this time of Lent\, to re-connect with self and Creator.  In these unprecedented times of uncertainty\, we can often become distracted by the news\, social media\, fears\, and the future.  This is a day for you to disconnect from many of the distractions and be intentional in your spiritual reflection and contemplation.   You will be given opportunity to spiritual connect through nature and art. And to just “be still and know the I am God”. \n*Coffee\, tea\, water\, and morning snacks will be offered. A light lunch will be served for all participants.
URL:https://www.pattihunter.com/event/a-day-of-reflection-retreat/
LOCATION:The Farmstead\, 1565 Green Drive\, Canton\, GA\, United States
ATTACH;FMTTYPE=image/jpeg:https://www.pattihunter.com/wp-content/uploads/2022/03/870510F7-F483-493B-BC99-0ED1CF883AE1-scaled.jpg
END:VEVENT
END:VCALENDAR