BEGIN:VCALENDAR
VERSION:2.0
PRODID:-//Farmstead on the River - ECPv6.15.14//NONSGML v1.0//EN
CALSCALE:GREGORIAN
METHOD:PUBLISH
X-ORIGINAL-URL:https://www.pattihunter.com
X-WR-CALDESC:Events for Farmstead on the River
REFRESH-INTERVAL;VALUE=DURATION:PT1H
X-Robots-Tag:noindex
X-PUBLISHED-TTL:PT1H
BEGIN:VTIMEZONE
TZID:America/New_York
BEGIN:DAYLIGHT
TZOFFSETFROM:-0500
TZOFFSETTO:-0400
TZNAME:EDT
DTSTART:20250309T070000
END:DAYLIGHT
BEGIN:STANDARD
TZOFFSETFROM:-0400
TZOFFSETTO:-0500
TZNAME:EST
DTSTART:20251102T060000
END:STANDARD
BEGIN:DAYLIGHT
TZOFFSETFROM:-0500
TZOFFSETTO:-0400
TZNAME:EDT
DTSTART:20260308T070000
END:DAYLIGHT
BEGIN:STANDARD
TZOFFSETFROM:-0400
TZOFFSETTO:-0500
TZNAME:EST
DTSTART:20261101T060000
END:STANDARD
BEGIN:DAYLIGHT
TZOFFSETFROM:-0500
TZOFFSETTO:-0400
TZNAME:EDT
DTSTART:20270314T070000
END:DAYLIGHT
BEGIN:STANDARD
TZOFFSETFROM:-0400
TZOFFSETTO:-0500
TZNAME:EST
DTSTART:20271107T060000
END:STANDARD
END:VTIMEZONE
BEGIN:VEVENT
DTSTART;TZID=America/New_York:20260207T093000
DTEND;TZID=America/New_York:20260207T153000
DTSTAMP:20260423T175747
CREATED:20260122T231656Z
LAST-MODIFIED:20260122T234937Z
UID:4196-1770456600-1770478200@www.pattihunter.com
SUMMARY:Art & Soul: The Light Breaks Through...
DESCRIPTION:We invite you to participate in an enriching day at Farmstead\, where you will have the opportunity to engage in creative activities and thoughtful reflection on the theme “The Light Breaks Through”.
URL:https://www.pattihunter.com/event/art-soul-the-light-breaks-through/
LOCATION:Farmstead on the River\, 1565 Green Drive\, Canton\, GA\, 30114\, United States
END:VEVENT
BEGIN:VEVENT
DTSTART;TZID=America/New_York:20260321T093000
DTEND;TZID=America/New_York:20260321T153000
DTSTAMP:20260423T175747
CREATED:20260123T002830Z
LAST-MODIFIED:20260123T002830Z
UID:4206-1774085400-1774107000@www.pattihunter.com
SUMMARY:Yoga & Meditation Day Retreat
DESCRIPTION:Retreat by Carolyn Purvis \nMore Details to come
URL:https://www.pattihunter.com/event/yoga-meditation-day-retreat/
LOCATION:Farmstead on the River\, 1565 Green Drive\, Canton\, GA\, 30114\, United States
END:VEVENT
BEGIN:VEVENT
DTSTART;TZID=America/New_York:20260403T173000
DTEND;TZID=America/New_York:20260403T203000
DTSTAMP:20260423T175747
CREATED:20260122T235751Z
LAST-MODIFIED:20260122T235751Z
UID:4199-1775237400-1775248200@www.pattihunter.com
SUMMARY:The Last Supper: Upper Room Experience
DESCRIPTION:Gather at the table for a sacred evening of remembrance and reflection. \nThrough scripture\, storytelling and a shared meal\, the Last Supper Experience invites us to step into the story of Christ’s love\, sacrifice and redemption as we prepare our hearts for Easter.
URL:https://www.pattihunter.com/event/the-last-supper-upper-room-experience/
LOCATION:Farmstead on the River\, 1565 Green Drive\, Canton\, GA\, 30114\, United States
END:VEVENT
BEGIN:VEVENT
DTSTART;VALUE=DATE:20260529
DTEND;VALUE=DATE:20260602
DTSTAMP:20260423T175747
CREATED:20260123T012513Z
LAST-MODIFIED:20260123T012513Z
UID:4240-1780012800-1780358399@www.pattihunter.com
SUMMARY:PRIVATE EVENT - Baptist Clergy Womens Group Event
DESCRIPTION:PRIVATE EVENT
URL:https://www.pattihunter.com/event/private-event-baptist-clergy-womens-group-event/
LOCATION:GA
END:VEVENT
BEGIN:VEVENT
DTSTART;TZID=America/New_York:20260606T093000
DTEND;TZID=America/New_York:20260606T153000
DTSTAMP:20260423T175747
CREATED:20260123T005818Z
LAST-MODIFIED:20260123T005818Z
UID:4233-1780738200-1780759800@www.pattihunter.com
SUMMARY:Art & Soul Summer Workshop
DESCRIPTION:Art & Soul Workshops aim to integrate silence\, scriptures\, nature and the various mediums of art to create a “soul-space” for you to experience an authentic connection with God.\nThis workshop will be directed by Marti Chiapetti
URL:https://www.pattihunter.com/event/art-soul-summer-workshop/
LOCATION:Farmstead on the River\, 1565 Green Drive\, Canton\, GA\, 30114\, United States
END:VEVENT
BEGIN:VEVENT
DTSTART;TZID=America/New_York:20260918T173000
DTEND;TZID=America/New_York:20260919T160000
DTSTAMP:20260423T175747
CREATED:20260123T000526Z
LAST-MODIFIED:20260123T000526Z
UID:4202-1789752600-1789833600@www.pattihunter.com
SUMMARY:Re-Compassing To Live Fruitfully
DESCRIPTION:Re- compassing refers to repairing and recalibrating our compass to align with our true North with God and others.
URL:https://www.pattihunter.com/event/re-compassing-to-live-fruitfully/
LOCATION:Farmstead on the River\, 1565 Green Drive\, Canton\, GA\, 30114\, United States
END:VEVENT
BEGIN:VEVENT
DTSTART;VALUE=DATE:20261015
DTEND;VALUE=DATE:20261017
DTSTAMP:20260423T175747
CREATED:20260123T003045Z
LAST-MODIFIED:20260123T003240Z
UID:4209-1792022400-1792195199@www.pattihunter.com
SUMMARY:McAfee School of Theology (PRIVATE EVENT)
DESCRIPTION:PRIVATE EVENT held at Farmstead on the River
URL:https://www.pattihunter.com/event/mcafee-school-of-theology/
LOCATION:Farmstead on the River\, 1565 Green Drive\, Canton\, GA\, 30114\, United States
END:VEVENT
BEGIN:VEVENT
DTSTART;TZID=America/New_York:20261023T173000
DTEND;TZID=America/New_York:20261024T160000
DTSTAMP:20260423T175747
CREATED:20260123T001004Z
LAST-MODIFIED:20260123T001004Z
UID:4204-1792776600-1792857600@www.pattihunter.com
SUMMARY:Abide Retreat: Divine Intimacy in the Ordinary & Everyday
DESCRIPTION:Drawing on the image of abiding from the Gospel of John and The Practice of the Presence of God by Brother Lawrence\, this retreat will provide a biblical theology and practical spirituality for a lifestyle of everyday\, joyful mysticism that Jesus invites all to experience. Join us for a time of teaching\, conversation\, and meditation on what it might look like for you and me to journey into a daily spirituality of Abiding.
URL:https://www.pattihunter.com/event/abide-retreat-divine-intimacy-in-the-ordinary-everyday/
LOCATION:Farmstead on the River\, 1565 Green Drive\, Canton\, GA\, 30114\, United States
END:VEVENT
BEGIN:VEVENT
DTSTART;TZID=America/New_York:20261114T093000
DTEND;TZID=America/New_York:20261114T123000
DTSTAMP:20260423T175747
CREATED:20260123T003535Z
LAST-MODIFIED:20260123T003535Z
UID:4214-1794648600-1794659400@www.pattihunter.com
SUMMARY:Women's Fall Retreat
DESCRIPTION:Women’s Fall Retreat by the Northview Church
URL:https://www.pattihunter.com/event/womens-fall-retreat/
LOCATION:Farmstead on the River\, 1565 Green Drive\, Canton\, GA\, 30114\, United States
END:VEVENT
BEGIN:VEVENT
DTSTART;TZID=America/New_York:20261121T093000
DTEND;TZID=America/New_York:20261121T153000
DTSTAMP:20260423T175747
CREATED:20260123T003842Z
LAST-MODIFIED:20260123T003944Z
UID:4218-1795253400-1795275000@www.pattihunter.com
SUMMARY:Art & Soul Winter Workshop
DESCRIPTION:Art & Soul Workshops aim to integrate silence\, scriptures\, nature and the various mediums of art to create a “soul-space” for you to experience an authentic connection with God.
URL:https://www.pattihunter.com/event/art-soul-winter-workshop/
LOCATION:Farmstead on the River\, 1565 Green Drive\, Canton\, GA\, 30114\, United States
END:VEVENT
BEGIN:VEVENT
DTSTART;VALUE=DATE:20261212
DTEND;VALUE=DATE:20261213
DTSTAMP:20260423T175747
CREATED:20260124T192740Z
LAST-MODIFIED:20260124T192740Z
UID:4251-1797033600-1797119999@www.pattihunter.com
SUMMARY:Farmstead Christmas Event (PRIVATE)
DESCRIPTION:More Details to be Determined and will be shared here as the time approaches.
URL:https://www.pattihunter.com/event/farmstead-christmas-event-private/
LOCATION:Farmstead on the River\, 1565 Green Drive\, Canton\, GA\, 30114\, United States
END:VEVENT
END:VCALENDAR